BEGIN:VCALENDAR
VERSION:2.0
PRODID:-//UPROAR - ECPv6.0.12//NONSGML v1.0//EN
CALSCALE:GREGORIAN
METHOD:PUBLISH
X-WR-CALNAME:UPROAR
X-ORIGINAL-URL:https://heruproar.com
X-WR-CALDESC:Events for UPROAR
REFRESH-INTERVAL;VALUE=DURATION:PT1H
X-Robots-Tag:noindex
X-PUBLISHED-TTL:PT1H
BEGIN:VTIMEZONE
TZID:UTC
BEGIN:STANDARD
TZOFFSETFROM:+0000
TZOFFSETTO:+0000
TZNAME:UTC
DTSTART:20260101T000000
END:STANDARD
END:VTIMEZONE
BEGIN:VEVENT
DTSTART;TZID=UTC:20260124T090000
DTEND;TZID=UTC:20260125T210000
DTSTAMP:20260425T102320
CREATED:20260129T211150Z
LAST-MODIFIED:20260129T211150Z
UID:2991-1769245200-1769374800@heruproar.com
SUMMARY:Ummah Hacks
DESCRIPTION:Muslim students and professionals face barriers in tech: lack of representation\, limited networking opportunities\, and few spaces that align with their values. Traditional hackathons often miss the unique perspectives and ethical frameworks that Muslim talent brings to innovation. \nUmmahHacks bridges this gap by creating North America’s premier Muslim-led hackathon. We provide a platform where faith meets innovation\, where students showcase value-driven talent\, where founders discover exceptional hires\, and where bold ideas transform into real-world impact—all rooted in Islamic principles and open to everyone. \nhttps://ummahhacks.com/
URL:https://heruproar.com/event/ummah-hacks/
ATTACH;FMTTYPE=image/jpeg:https://heruproar.com/wp-content/uploads/2026/01/unnamed.jpg
END:VEVENT
BEGIN:VEVENT
DTSTART;TZID=UTC:20260131T170000
DTEND;TZID=UTC:20260131T203000
DTSTAMP:20260425T102320
CREATED:20260129T211601Z
LAST-MODIFIED:20260129T212743Z
UID:2995-1769878800-1769891400@heruproar.com
SUMMARY:Muslim Hertiage Month
DESCRIPTION:Sadia Mezbah joins North Hudson Islamic Center for Muslim Heritage Month as we celebrate The Historical Legacy of Muslims in America. An evening of a Historical Exhibition Competition\, Lecture\, Workshop\, and Dinner.\nSaturday\, Jan 31st\, 2026\n5:00 PM – 8:30 PM\nNorth Hudson Islamic Educational Center (NHIEC)\nBring your family and be part of this powerful night of faith\, knowledge\, and history.\n\n\n 
URL:https://heruproar.com/event/muslim-hertiage-month-2026/
ATTACH;FMTTYPE=image/jpeg:https://heruproar.com/wp-content/uploads/2026/01/59bf79b8-9a0c-4ba2-af46-473d88590e00.jpg
END:VEVENT
BEGIN:VEVENT
DTSTART;TZID=UTC:20260131T180000
DTEND;TZID=UTC:20260131T210000
DTSTAMP:20260425T102320
CREATED:20260129T211813Z
LAST-MODIFIED:20260129T211856Z
UID:3000-1769882400-1769893200@heruproar.com
SUMMARY:Winter Wonderland Gala
DESCRIPTION:Sanat Karkat joins Give Her Space Inc. for their Winter Wonderland Gala for a powerful keynote on sistershood\, owning your power\, and building community. This event is dedicated to building a community center designed for women. Learn what Give Her Space has planned and see how you can help find your place with us. Event proceeds support Give Her Space Inc. in our goal to fund a year’s woth of rent and programming at\, what we hope will be\, our new home base. \n  \nDayton\, NJ 08810
URL:https://heruproar.com/event/winter-wonderland-gala-2026/
ATTACH;FMTTYPE=image/jpeg:https://heruproar.com/wp-content/uploads/2026/01/Give-her-space.jpg
END:VEVENT
END:VCALENDAR