BEGIN:VCALENDAR
VERSION:2.0
PRODID:-//UPROAR - ECPv6.0.12//NONSGML v1.0//EN
CALSCALE:GREGORIAN
METHOD:PUBLISH
X-ORIGINAL-URL:https://heruproar.com
X-WR-CALDESC:Events for UPROAR
REFRESH-INTERVAL;VALUE=DURATION:PT1H
X-Robots-Tag:noindex
X-PUBLISHED-TTL:PT1H
BEGIN:VTIMEZONE
TZID:UTC
BEGIN:STANDARD
TZOFFSETFROM:+0000
TZOFFSETTO:+0000
TZNAME:UTC
DTSTART:20260101T000000
END:STANDARD
END:VTIMEZONE
BEGIN:VEVENT
DTSTART;TZID=UTC:20260202T120000
DTEND;TZID=UTC:20260202T130000
DTSTAMP:20260423T225927
CREATED:20260129T212235Z
LAST-MODIFIED:20260129T212235Z
UID:3002-1770033600-1770037200@heruproar.com
SUMMARY:Jadal Talks Doha\, Qatar
DESCRIPTION:Rowaida Abdelaziz takes the stage at Jadal Talks for reflective conversations that bring lived expertise into dialogue with ethics\, faith\, and the contemporary realities shaping Muslim women’s lives today. \nJadal Talks bring together Muslim women leaders\, practitioners\, and thinkers from diverse fields to explore how values such as justice\, care\, responsibility\, and trust are practiced and negotiated in real-world contexts.
URL:https://heruproar.com/event/jadal-talks-doha-qatar/
ATTACH;FMTTYPE=image/jpeg:https://heruproar.com/wp-content/uploads/2026/01/ILQ_AlMujadilah_logo.jpg
END:VEVENT
BEGIN:VEVENT
DTSTART;TZID=UTC:20260202T143000
DTEND;TZID=UTC:20260202T153000
DTSTAMP:20260423T225927
CREATED:20260129T212615Z
LAST-MODIFIED:20260129T212615Z
UID:3009-1770042600-1770046200@heruproar.com
SUMMARY:Northwest Qatar
DESCRIPTION:Journalism and strategic communication. \nChallenging Narratives About Muslims in Global Newsrooms. \nA discussion with award-winning journalists about islamophobia\, navigating identity-focused reporting\, and building careers in international newsrooms. \nModerated by Assistant Professor-in-Residence\, Shakeeb Asrar
URL:https://heruproar.com/event/northwest-qatar/
ATTACH;FMTTYPE=image/jpeg:https://heruproar.com/wp-content/uploads/2026/01/11d8fd00-13a3-411b-820c-793101f4d414.jpg
END:VEVENT
END:VCALENDAR