BEGIN:VCALENDAR
VERSION:2.0
PRODID:-//UPROAR - ECPv6.0.12//NONSGML v1.0//EN
CALSCALE:GREGORIAN
METHOD:PUBLISH
X-WR-CALNAME:UPROAR
X-ORIGINAL-URL:https://heruproar.com
X-WR-CALDESC:Events for UPROAR
REFRESH-INTERVAL;VALUE=DURATION:PT1H
X-Robots-Tag:noindex
X-PUBLISHED-TTL:PT1H
BEGIN:VTIMEZONE
TZID:UTC
BEGIN:STANDARD
TZOFFSETFROM:+0000
TZOFFSETTO:+0000
TZNAME:UTC
DTSTART:20250101T000000
END:STANDARD
END:VTIMEZONE
BEGIN:VEVENT
DTSTART;TZID=UTC:20251213T120000
DTEND;TZID=UTC:20251213T160000
DTSTAMP:20260425T133235
CREATED:20260129T212948Z
LAST-MODIFIED:20260129T212948Z
UID:3011-1765627200-1765641600@heruproar.com
SUMMARY:Friday Forum
DESCRIPTION:Join us on December 13th for Forum by Friday. We’re bringing together founders\, senior operators\, media voices\, gov’t/non-profits\, and community leaders for an day of cross-\nindustry conversations. \nhttps://luma.com/iwibodu0\nUPROAR’s Founder and CEO\, Sanat Karkat\, and UPROAR speaker\, Lama Mohammed\, led multiple sessions during the Forum.
URL:https://heruproar.com/event/friday-forum/
ATTACH;FMTTYPE=image/jpeg:https://heruproar.com/wp-content/uploads/2026/01/fridayhqorg_logo.jpg
END:VEVENT
END:VCALENDAR